Workbook
Name FrequencyList: '[1]Report Form'!$F$4:$F$8
Name PeriodList: '[1]Report Form'!$E$4:$E$76

Sheet بورصة عمان
B3: بورصة عمان | C3: رقم الجدول .Table No | D3: Amman Stock Exchange
B7: حجم التداول في بورصة عمان موزعا حسب القطاعات. ................................................................................................. | C7: 59a | D7: Value Traded at Amman Stock Exchange According to Sectors.................................................................................................
B8: حجم التداول في بورصة عمان موزعا حسب القطاعات. ................................................................................................. | C8: 59b | D8: Value Traded at Amman Stock Exchange According to Sectors.................................................................................................
B9: الرقم القياسي لاسعار الاسهم مرجحا بالقيمة السوقية للاسهم الحرة قطاعيا.................................................................................................. | C9: 60a | D9: Share Price Index Weighted by Market Capitalization of Free Float Shares by Sectors.................................................................................................
B10: الرقم القياسي لاسعار الاسهم مرجحا بالقيمة السوقية للاسهم الحرة قطاعيا.................................................................................................. | C10: 60b | D10: Share Price Index Weighted by Market Capitalization of Free Float Shares by Sectors.................................................................................................
B11: الرقم القياسي لاسعار الاسهم مرجحا بالقيمة السوقية لرأس المال.................................................................................................. | C11: 61 | D11: Share Price Index Weighted by Market Value of Capital..................................................................................................
B12: اربحية الشركات المساهمة العامة الاردنية.................................................................................................. | C12: 62a | D12: Profitability of Jordanian Public Shareholding Companies..................................................................................................
B13: اربحية الشركات المساهمة العامة الاردنية.................................................................................................. | C13: 62b | D13: Profitability of Jordanian Public Shareholding Companies..................................................................................................

Sheet 59a
B3: Financial Sector Statistics | E3: Table (59a) جدول | N3: إحصاءات القطاع المالي
I4: ** حجم التداول في بورصة عمان موزعا حسب القطاعات
C5: ** Value Traded at Amman Stock Exchange According to Sectors | P5: الف دينار JD Thousand
C7: القطاع المالي | H7: قطاع الخدمات
C8: Financial Sector | H8: Services Sector
C9: البنوك | D9: التأمين | E9: خدمات مالية متنوعة | F9: العقارات | G9: مجموع القطاع المالي | H9: الخدمات الصحية | I9: التعليم | J9: الفنادق والسياحة | K9: النقل | L9: التكنولوجيا والاتصالات | M9: الاعلام | N9: الطاقة والمنافع | O9: الخدمات التجارية | P9: مجموع قطاع الخدمات
C11: Banks | D11: Insurance | E11: Diversified Financial Services | F11: Real Estate | G11: Total of Finacial Sector | H11: Health Sector | I11: Educational Sector | J11: Hotels and Tourism | K11: Transp-ortation | L11: Technology and Commun-ication | M11: Media | N11: Utilities and Energy | O11: Commercial Sector | P11: Total of Services Sector
B12: الفترة Period
B13: 2004 | C13: 1692995.4 | D13: 43427 | E13: 401593.9 | F13: 265748.6 | G13: =SUM(C13:F13) -> 2403764.9 | H13: 51128.9 | I13: 25460.2 | J13: 39809.9 | K13: 44837.5 | L13: 64884.4 | M13: 15144.6 | N13: 114639.9 | O13: 24039 | P13: =SUM(H13:O13) -> 379944.4
B14: 2005 | C14: 6043405.2 | D14: 179878.4 | E14: 4744952.3 | F14: 2232453 | G14: =SUM(C14:F14) -> 13200689 | H14: 46046.6 | I14: 71817.7 | J14: 141850.9 | K14: 310442.1 | L14: 273179.6 | M14: 26351.8 | N14: 230774 | O14: 95457.9 | P14: =SUM(H14:O14) -> 1195920.6
B15: 2006 | C15: 2869730.6 | D15: 89033 | E15: 4218140.1 | F15: 4393297.9 | G15: =SUM(C15:F15) -> 11570202 | H15: 47103.2 | I15: 78905 | J15: 229598.8 | K15: 220259.1 | L15: 67149 | M15: 21729.1 | N15: 103599.8 | O15: 173845.9 | P15: =SUM(H15:O15) -> 942189.9
B16: 2007 | C16: 3411816.2 | D16: 419503.6 | E16: 2143445.7 | F16: 2780253 | G16: =SUM(C16:F16) -> 8755018.5 | H16: 168843.9 | I16: 250757.9 | J16: 221445.7 | K16: 426666.8 | L16: 143057.6 | M16: 43098.6 | N16: 209734.8 | O16: 218603.2 | P16: =SUM(H16:O16) -> 1682208.5
B17: 2008 | C17: 3229673.5 | D17: 502298.92 | E17: 2355595.9 | F17: 3551368.4 | G17: 9638936.8 | H17: 106342.55 | I17: 109841.85 | J17: 140456.33 | K17: 649268.8 | L17: 541038.52 | M17: 28765.892 | N17: 3359703 | O17: 486824.94 | P17: 5422241.9
B18: 2009 | C18: 947458.71 | D18: 463997.07 | E18: 1995528 | F18: 2937728.5 | G18: 6344712.2 | H18: 15124.849 | I18: 21889.51 | J18: 170760.18 | K18: 386276.93 | L18: 70962.302 | M18: 7760.56 | N18: 461790.54 | O18: 896281.02 | P18: 2030845.9
B19: 2010 | C19: 712823.21 | D19: 242227.5 | E19: 1556263.4 | F19: 1662798.5 | G19: 4174112.6 | H19: 11556.568 | I19: 8218.483 | J19: 220809.95 | K19: 338053.05 | L19: 32163.41 | M19: 9176.724 | N19: 89939.592 | O19: 1034745.7 | P19: 1744663.5
B20: 2011 | C20: 460084.1 | D20: 73111.1 | E20: 471056.3 | F20: 753099.4 | G20: 1757350.9 | H20: 5444.6 | I20: 7758.4 | J20: 142677.9 | K20: 130639.2 | L20: 18779.2 | M20: 9842.6 | N20: 108581.6 | O20: 152278.6 | P20: 576002.1
B21: 2012 | C21: 336108.6 | D21: 24079.7 | E21: 329930.3 | F21: 499360.5 | G21: 1189479.1 | H21: 7237.3 | I21: 4697.2 | J21: 73081.9 | K21: 166289.9 | L21: 13543.6 | M21: 4878.9 | N21: 70644 | O21: 63521 | P21: 403893.8
B22: 2013 | C22: 865959.88 | D22: 13705.8 | E22: 438276.4 | F22: 903497.1 | G22: 2221439.1 | H22: 3035.3 | I22: 14880.1 | J22: 71286.9 | K22: 182580.4 | L22: 17470.2 | M22: 3561.3 | N22: 45905.6 | O22: 69400.5 | P22: 408120.3
B23: 2014 | C23: 504556.5 | D23: 19925.758 | E23: 314298.81 | F23: 672065.32 | G23: 1510846.4 | H23: 13082.479 | I23: 8849.267 | J23: 65221.222 | K23: 158213.79 | L23: 16784.955 | M23: 1429.122 | N23: 50727.292 | O23: 59155.416 | P23: 373463.54
B24: 2015 | C24: 722636.28 | D24: 35617.731 | E24: 349133.47 | F24: 1233555.7 | G24: 2340943.2 | H24: 27539.493 | I24: 13337.828 | J24: 51026.569 | K24: 198697.52 | L24: 15302.848 | M24: 981.35 | N24: 110382.41 | O24: 312305.07 | P24: 729572.99
B25: 2016 | C25: 429811.4 | D25: 7857.57 | E25: 291884.22 | F25: 472554.67 | G25: 1202107.9 | H25: 9115.133 | I25: 42351.57 | J25: 48963.025 | K25: 163881.72 | L25: 7446.16 | M25: 1176.864 | N25: 80564.702 | O25: 70140.145 | P25: 423639.32
B26: 2017 | C26: 1260506.8 | D26: 21645.608 | E26: 310502.78 | F26: 302802.9 | G26: 1895458.1 | H26: 5330.859 | I26: 14547.413 | J26: 77915.775 | K26: 124131.76 | L26: 11655.051 | M26: 472.958 | N26: 87205.39 | O26: 53766.416 | P26: 375025.62
B27: 2018 | C27: 659126.42 | D27: 19375.962 | E27: 139255.36 | F27: 282247.82 | G27: 1100005.6 | H27: 6697.118 | I27: 13300.284 | J27: 38309.726 | K27: 49753.395 | L27: 21591.65 | M27: 139.375 | N27: 61804.032 | O27: 39435.707 | P27: 231031.29
B28: 2019 | C28: 528325.09 | D28: 21978.22 | E28: 154958.74 | F28: 334137.9 | G28: 1039399.9 | H28: 3230.961 | I28: 5261.432 | J28: 32802.689 | K28: 61202.391 | L28: 14059.998 | M28: 146.88 | N28: 101904.73 | O28: 38063.885 | P28: 256672.97
B29: 2020* | C29: 223741.32 | D29: 29383.596 | E29: 146626.09 | F29: 256316.84 | G29: 656067.84 | H29: 1326.607 | I29: 2763.646 | J29: 10691.896 | K29: 41420.934 | L29: 7133.879 | M29: 45.523 | N29: 104232.32 | O29: 42825.686 | P29: 210440.49
B30: 2021 | C30: 383526.04 | D30: 36482.295 | E30: 118446.77 | F30: 445112.45 | G30: 983567.55 | H30: 774.172 | I30: 9551.63 | J30: 10335.541 | K30: 59354.523 | L30: 19403.202 | M30: 0 | N30: 269847.07 | O30: 114903.74 | P30: 484169.88
B31: 2022 | C31: 449746.73 | D31: 68412.499 | E31: 89987.962 | F31: 224593.3 | G31: 832740.49 | H31: 3589.045 | I31: 3987.934 | J31: 7249.959 | K31: 12009.199 | L31: 96957.357 | M31: 0 | N31: 414990.77 | O31: 86167.735 | P31: 624952
B32: 2023 | C32: 232754.05 | D32: 34578.812 | E32: 115972.44 | F32: 159495.35 | G32: 542800.65 | H32: 616.138 | I32: 4253.816 | J32: 2867.463 | K32: 17363.264 | L32: 168545.89 | M32: 0 | N32: 241737.79 | O32: 11768.503 | P32: 447152.86
B33: 2024 | C33: 334082.25 | D33: 6527.238 | E33: 97517.842 | F33: 132419.32 | G33: 570546.66 | H33: 442.519 | I33: 7410.792 | J33: 4722.171 | K33: 30525.261 | L33: 125272.45 | M33: 0 | N33: 222287.37 | O33: 30184.177 | P33: 420844.74
B34: 2025 | C34: 679699.54 | D34: 20754.117 | E34: 50536.2 | F34: 186238.01 | G34: 937227.9 | H34: 1817.703 | I34: 4902.163 | J34: 8929.465 | K34: 19610.716 | L34: 178990.07 | M34: 0 | N34: 445559.57 | O34: 9373.604 | P34: 669183.29
B35: 2006
B36: 38899 | C36: 216755.3 | D36: 5024.9 | E36: 244288.8 | F36: 262714.2 | G36: =SUM(C36:F36) -> 728783.2 | H36: 4034.5 | I36: 6487 | J36: 42678.8 | K36: 8604.1 | L36: - | M36: 1098 | N36: 5087.1 | O36: 10846 | P36: =SUM(H36:O36) -> 78835.5
B37: 38930 | C37: 195791.5 | D37: 6429.6 | E37: 558392.2 | F37: 653860.8 | G37: =SUM(C37:F37) -> 1414474.1 | H37: 2390.1 | I37: 8640.3 | J37: 51635.6 | K37: 23528.8 | L37: - | M37: 865.8 | N37: 31620.8 | O37: 13930.1 | P37: =SUM(H37:O37) -> 132611.5
B38: 38961 | C38: 127900.8 | D38: 6931.3 | E38: 263019.6 | F38: 503530.7 | G38: =SUM(C38:F38) -> 901382.4 | H38: 3507.1 | I38: 12238.7 | J38: 19832 | K38: 38987.1 | L38: - | M38: 498.1 | N38: 9976.8 | O38: 25743.7 | P38: =SUM(H38:O38) -> 110783.5
B39: 38991 | C39: 95484.1 | D39: 4020.1 | E39: 204511.1 | F39: 328793.7 | G39: =SUM(C39:F39) -> 632809 | H39: 8377.8 | I39: 10303.9 | J39: 16182.2 | K39: 39524.9 | L39: 2511.8 | M39: 255.8 | N39: 3191.3 | O39: 23726.6 | P39: =SUM(H39:O39) -> 104074.3
B40: 39022 | C40: 104060.8 | D40: 4615.1 | E40: 184138.2 | F40: 375792.2 | G40: =SUM(C40:F40) -> 668606.3 | H40: 7649.5 | I40: 11738.9 | J40: 19608.8 | K40: 16343.6 | L40: 2738.3 | M40: 559.3 | N40: 4736.6 | O40: 19393.1 | P40: =SUM(H40:O40) -> 82768.1
B41: 39052 | C41: 176522 | D41: 3321 | E41: 95853.2 | F41: 256924.4 | G41: =SUM(C41:F41) -> 532620.6 | H41: 2476.8 | I41: 1591.2 | J41: 21868.9 | K41: 11549.5 | L41: 1642.1 | M41: 335.3 | N41: 2945.4 | O41: 14842.6 | P41: =SUM(H41:O41) -> 57251.8
B42: 2007
B43: 39083 | C43: 302697.1 | D43: 5904.6 | E43: 109772.5 | F43: 215550 | G43: =SUM(C43:F43) -> 633924.2 | H43: 5589.6 | I43: 4647.9 | J43: 12270 | K43: 35112.6 | L43: 4604.1 | M43: 1638.8 | N43: 11048.1 | O43: 11522.4 | P43: =SUM(H43:O43) -> 86433.5
B44: 39114 | C44: 602874.4 | D44: 5961 | E44: 214017.2 | F44: 345378.4 | G44: =SUM(C44:F44) -> 1168231 | H44: 43137 | I44: 7014.7 | J44: 19341.7 | K44: 60265.4 | L44: 7528.1 | M44: 1784.7 | N44: 23075.6 | O44: 12591.5 | P44: =SUM(H44:O44) -> 174738.7
...

Sheet 59b
B2: Financial Sector Statistics | E2: Table (59b) جدول | M2: إحصاءات القطاع المالي
D3: ** حجم التداول في بورصة عمان موزعا حسب القطاعات
D4: ** Value Traded at Amman Stock Exchange According to Sectors | O4: الف دينار JD Thousand
C6: قطاع الصناعة | O6: مجموع القطاعات
C7: Industrial Sector
C8: الادوية والصناعات الطبية | D8: الصناعات الكيماوية | E8: صناعات الورق والكرتون | F8: الطباعة والتغليف | G8: الاغذية والمشروبات | H8: التبغ والسجائر | I8: الصناعات الاستخراجية والتعدينية | J8: الصناعات الهندسية والانشائية | K8: الصناعات الكهربائية | L8: الملابس والجلود والنسيج | M8: الصناعات الزجاجية والخزفية | N8: مجموع قطاع الصناعة
C10: Pharmaceutical and Medical Industries | D10: Chemical Industries | E10: Paper and Cartoon Industries | F10: Printing and Packaging | G10: Food and Beverages | H10: Tobacco and Cigarettes | I10: Mining and Extraction Industries | J10: Engineering and Construction | K10: Electrical Industries | L10: Textile, Leather and Clothings | M10: Glass and Ceramic Industries | N10: Total of Industrial Sector | O10: Total Sectors
B11: الفترة Period
B12: 2004 | C12: 84073.7 | D12: 108018.3 | E12: 3061.1 | F12: 22166 | G12: 75679.6 | H12: 76584.4 | I12: 257308.5 | J12: 63548.5 | K12: 261366.8 | L12: 34323.7 | M12: 23411.2 | N12: =SUM(C12:M12) -> 1009541.8 | O12: =N12+'59a'!G13+'59a'!P13 -> 3793251.1
B13: 2005 | C13: 140194.8 | D13: 146414.6 | E13: 2138.9 | F13: 3978.5 | G13: 94749.7 | H13: 335682.4 | I13: 558859.7 | J13: 199290.5 | K13: 821254.2 | L13: 140776.9 | M13: 31102.2 | N13: =SUM(C13:M13) -> 2474442.4 | O13: =N13+'59a'!G14+'59a'!P14 -> 16871052
B14: 2006 | C14: 82595.8 | D14: 132590.8 | E14: 10345.5 | F14: 8004.1 | G14: 114403.3 | H14: 62441 | I14: 306110.3 | J14: 167761.5 | K14: 698533.8 | L14: 98541.5 | M14: 16151.6 | N14: =SUM(C14:M14) -> 1697479.2 | O14: =N14+'59a'!G15+'59a'!P15 -> 14209871
B15: 2007 | C15: 75701.7 | D15: 261020 | E15: 43498.3 | F15: 10120.9 | G15: 87294.8 | H15: 32276.4 | I15: 334523.7 | J15: 186756.6 | K15: 658572 | L15: 199564.9 | M15: 21545.6 | N15: =SUM(C15:M15) -> 1910874.9 | O15: =N15+'59a'!G16+'59a'!P16 -> 12348102
B16: 2008 | C16: 19076.579 | D16: 275509.7 | E16: 30734.77 | F16: 4898.349 | G16: 99982.901 | H16: 24792.449 | I16: 4117485.1 | J16: 133818.84 | K16: 458900.46 | L16: 84320.019 | M16: 7316.823 | N16: 5256835.9 | O16: =N16+'59a'!G17+'59a'!P17 -> 20318015
B17: 2009 | C17: 9812.1 | D17: 162100.66 | E17: 12011.03 | F17: 511.71 | G17: 44931.43 | H17: 11413.07 | I17: 687293.39 | J17: 155484.82 | K17: 46507.359 | L17: 94958.87 | M17: 64728.058 | N17: 1289752.5 | O17: =N17+'59a'!G18+'59a'!P18 -> 9665310.6
B18: 2010 | C18: 14655.015 | D18: 33141.8 | E18: 30404.54 | F18: 676.945 | G18: 30480.8 | H18: 17883.958 | I18: 198454.59 | J18: 26793.204 | K18: 287588 | L18: 79966.227 | M18: 51165.9 | N18: 771210.98 | O18: =N18+'59a'!G19+'59a'!P19 -> 6689987.1
B19: 2011 | C19: 5790 | D19: 19684.1 | E19: 2528.1 | F19: 1628.9 | G19: 9199.2 | H19: 30245.7 | I19: 177860.8 | J19: 40079.4 | K19: 202577.5 | L19: 19244.1 | M19: 8055.9 | N19: 516893.7 | O19: =N19+'59a'!G20+'59a'!P20 -> 2850246.7
B20: 2012 | C20: 4768.757 | D20: 20204.897 | E20: 2436.418 | F20: 5178.373 | G20: 1588.034 | H20: 78725.319 | I20: 90337.212 | J20: 75905.3 | K20: 22736.646 | L20: 27188.279 | M20: 56307.908 | N20: 385377.14 | O20: =N20+'59a'!G21+'59a'!P21 -> 1978750
B21: 2013 | C21: 9718.6 | D21: 29260.6 | E21: 8746.1 | F21: 1659.9 | G21: 7307.2 | H21: 38666.4 | I21: 93632.1 | J21: 54684.2 | K21: 61894.3 | L21: 43391.4 | M21: 48725.2 | N21: 397686 | O21: =N21+'59a'!G22+'59a'!P22 -> 3027245.4
B22: 2014 | C22: 30038.994 | D22: 76361.912 | E22: 4405.534 | F22: 211.108 | G22: 16100.643 | H22: 49802.53 | I22: 91190.821 | J22: 24188.306 | K22: 18769.342 | L22: 57442.429 | M22: 10583.152 | N22: 379094.77 | O22: =N22+'59a'!G23+'59a'!P23 -> 2263404.7
B23: 2015 | C23: 21749.472 | D23: 47221.312 | E23: 1489.018 | F23: 213.745 | G23: 20087.132 | H23: 41234.747 | I23: 62308.873 | J23: 26941.056 | K23: 25280.629 | L23: 93605.307 | M23: 6431.4 | N23: 346562.69 | O23: =N23+'59a'!G24+'59a'!P24 -> 3417078.9
B24: 2016 | C24: 23242.055 | D24: 39174.548 | E24: 3696.811 | F24: 127.02 | G24: 38398.482 | H24: 282739.07 | I24: 121086.63 | J24: 54336.082 | K24: 52808.558 | L24: 88109.735 | M24: 0 | N24: 703718.99 | O24: =N24+'59a'!G25+'59a'!P25 -> 2329466.2
B25: 2017 | C25: 10251.276 | D25: 40147.962 | E25: 1179.266 | F25: 185.663 | G25: 25196.06 | H25: 378163.51 | I25: 113572.02 | J25: 18532.933 | K25: 17124.184 | L25: 51396.928 | M25: 0 | N25: 655749.8 | O25: =N25+'59a'!G26+'59a'!P26 -> 2926233.5
B26: 2018 | C26: 5794.6 | D26: 29293.172 | E26: 24.632 | F26: 39.011 | G26: 5561.674 | H26: 365624.27 | I26: 484411.2 | J26: 47641.618 | K26: 13315.304 | L26: 36583.65 | M26: 0 | N26: 988289.13 | O26: =N26+'59a'!G27+'59a'!P27 -> 2319326
B27: 2019 | C27: 8209.589 | D27: 29951.354 | E27: 46.172 | F27: 1.208 | G27: 27584.971 | H27: 75362.813 | I27: 79813.517 | J27: 20251.989 | K27: 12116.545 | L27: 36026.434 | M27: 0 | N27: 289364.59 | O27: =N27+'59a'!G28+'59a'!P28 -> 1585437.5
B28: 2020* | C28: 4548.951 | D28: 33719.975 | E28: 0 | F28: 0 | G28: 24573.542 | H28: 40556.51 | I28: 55370.096 | J28: 5043.092 | K28: 10313.297 | L28: 8190.649 | M28: 0 | N28: 182316.11 | O28: =N28+'59a'!G29+'59a'!P29 -> 1048824.4
B29: 2021 | C29: 27675.356 | D29: 21817.233 | E29: 0 | F29: 0 | G29: 48477.505 | H29: 28890.543 | I29: 334659.13 | J29: 17327.941 | K29: 14935.986 | L29: 2075.416 | M29: 0 | N29: 495859.11 | O29: =N29+'59a'!G30+'59a'!P30 -> 1963596.5
B30: 2022 | C30: 4626.076 | D30: 7317.474 | E30: 0 | F30: 0 | G30: 46372.249 | H30: 3559.14 | I30: 352525.2 | J30: 28542.856 | K30: 2696.149 | L30: 374.982 | M30: 0 | N30: 446014.13 | O30: =N30+'59a'!G31+'59a'!P31 -> 1903706.6
B31: 2023 | C31: 19107.657 | D31: 10413.478 | E31: 0 | F31: 0 | G31: 42246.681 | H31: 8589.751 | I31: 278224.35 | J31: 105451.83 | K31: 2378.867 | L31: 597.487 | M31: 0 | N31: 467010.1 | O31: 1456963.6
B32: 2024 | C32: 11482.573 | D32: 6266.848 | E32: 0 | F32: 0 | G32: 13680.787 | H32: 6187.517 | I32: 135523.68 | J32: 27189.951 | K32: 6950.345 | L32: 552.332 | M32: 0 | N32: 207834.03 | O32: 1199225.4
B33: 2025 | C33: 11087.309 | D33: 7133.366 | E33: 0 | F33: 0 | G33: 7609.056 | H33: 710.206 | I33: 447068.45 | J33: 23806.92 | K33: 60248.871 | L33: 1233.112 | M33: 0 | N33: 558897.29 | O33: 2165308.5
B34: 2006
B35: 38899 | C35: 1241.4 | D35: 5931.2 | E35: 2729 | F35: 397.5 | G35: 4826 | H35: 2573.4 | I35: 11628.2 | J35: 10850.2 | K35: 44789.7 | L35: 10369.9 | M35: 254.7 | N35: 95591.2 | O35: 903209.9
B36: 38930 | C36: 1587.7 | D36: 20938.9 | E36: 3938.6 | F36: 560.6 | G36: 11547 | H36: 1224.1 | I36: 30994.4 | J36: 15102.3 | K36: 111919.8 | L36: 24856.9 | M36: 2074.8 | N36: 224745.1 | O36: 1771830.7
B37: 38961 | C37: 2165.6 | D37: 29119.3 | E37: 872.5 | F37: 2636.5 | G37: 14226.8 | H37: 3588.4 | I37: 30521.9 | J37: 25285.1 | K37: 48636.3 | L37: 14569.7 | M37: 5566.2 | N37: 177188.3 | O37: 1189354.2
B38: 38991 | C38: 910 | D38: 17222.6 | E38: 551.7 | F38: 1407.1 | G38: 17092.9 | H38: 899.2 | I38: 15600 | J38: 15422.6 | K38: 27620.7 | L38: 6285.4 | M38: 1340.2 | N38: 104352.4 | O38: 841235.7
B39: 39022 | C39: 1158.8 | D39: 9149.8 | E39: 206.9 | F39: 570.2 | G39: 23019.3 | H39: 12149.4 | I39: 11670.7 | J39: 8255.2 | K39: 29951.9 | L39: 5083.8 | M39: 631.4 | N39: 101847.4 | O39: 853221.8
B40: 39052 | C40: 4348.3 | D40: 4231.2 | E40: 860.6 | F40: 240.1 | G40: 6842.4 | H40: 2294.5 | I40: 10397.9 | J40: 17658 | K40: 22656.8 | L40: 5141 | M40: 724.4 | N40: 75395.2 | O40: 665267.6
B41: 2007
B42: 39083 | C42: 15719.6 | D42: 7907.4 | E42: 487.1 | F42: 583.8 | G42: 10226.9 | H42: 1398.3 | I42: 16304 | J42: 10225.1 | K42: 38125.1 | L42: 10439.8 | M42: 1216.1 | N42: =SUM(C42:M42) -> 112633.2 | O42: =N42+'59a'!P43+'59a'!G43 -> 832990.9
B43: 39114 | C43: 33599.3 | D43: 14007.3 | E43: 316.8 | F43: 507.1 | G43: 6464.3 | H43: 9604.6 | I43: 29420.7 | J43: 10363.3 | K43: 79158.8 | L43: 9219.2 | M43: 1242.9 | N43: =SUM(C43:M43) -> 193904.3 | O43: =N43+'59a'!P44+'59a'!G44 -> 1536874
...

Sheet 60a
B2: Financial Sector Statistics | E2: Table (60a) جدول | N2: إحصاءات القطاع المالي
D3: الرقم القياسي لاسعار الاسهم مرجحا بالقيمة السوقية للاسهم الحرة قطاعيا | O3: ( 1999=1000) اغلاق كانون اول
D4: Share Price Index Weighted by Market Capitalization of Free Float Shares by Sectors | O4: Closing December (1000=1999)
C6: القطاع المالي | H6: قطاع الخدمات
C7: Finacial Sector | H7: Services Sector
D8: البنوك | E8: التأمين | F8: خدمات مالية متنوعة | G8: العقارات | I8: الخدمات الصحية | J8: التعليم | K8: الفنادق والسياحة | L8: النقل | M8: التكنولوجيا والاتصالات | N8: الاعلام | O8: الطاقة والمنافع | P8: الخدمات التجارية
D10: Banks | E10: Insurance | F10: Diversified Financial Services | G10: Real Estate | I10: Health Sector | J10: Educational Sector | K10: Hotel and Tourism | L10: Transportation | M10: Technology and Commu-nication | N10: Media | O10: Utilities and Energy | P10: Commercial Sector
B11: الفترة Period
B12: 2004 | C12: 3510.7 | D12: 3407.8 | E12: 2680.2 | F12: 4834.9 | G12: 6136.8 | H12: 1762 | I12: 1804.7 | J12: 1868 | K12: 1385.6 | L12: 1113.6 | M12: 1535.9 | N12: 2382.3 | O12: 3325.2 | P12: 1382.9
B13: 2005 | C13: 6733.6 | D13: 6171.3 | E13: 5738.7 | F13: 16381.5 | G13: 9093.2 | H13: 2259.4 | I13: 1708.4 | J13: 3114.7 | K13: 1972.6 | L13: 2075.4 | M13: 2320.7 | N13: 2921.4 | O13: 3671.4 | P13: 1736.4
B14: 2006 | C14: 4486.3 | D14: 4237.7 | E14: 3715.5 | F14: 8248.8 | G14: 7798.9 | H14: 1833.1 | I14: 1317.4 | J14: 2611.9 | K14: 1915.8 | L14: 1126.3 | M14: 1738.4 | N14: 2134.5 | O14: 2955.7 | P14: 1721.8
B15: 2007 | C15: 5131 | D15: 5122.2 | E15: 3690.1 | F15: 9149 | G15: 7823.7 | H15: 2460.3 | I15: 961.8 | J15: 3280.4 | K15: 2181.9 | L15: 1363.1 | M15: 2392.7 | N15: 3858.9 | O15: 4699.7 | P15: 1889.5
B16: 2008 | C16: 3609.1 | D16: 4196.3 | E16: 3231.1 | F16: 4796.2 | G16: 3879 | H16: 2025.6 | I16: 881.7 | J16: 3275.9 | K16: 1997.5 | L16: 850 | M16: 1726 | N16: 3031.6 | O16: 3863.5 | P16: 1490.4
B17: 2009 | C17: 3026.8 | D17: 3646.8 | E17: 2838 | F17: 3618.3 | G17: 3131 | H17: 2107.9 | I17: 821.1 | J17: 2643 | K17: 1784.1 | L17: 914 | M17: 1792 | N17: 2806.7 | O17: 4795.5 | P17: 1557.9
B18: 2010 | C18: 2911.7 | D18: 3926.5 | E18: 2330.1 | F18: 2803.7 | G18: 2339.6 | H18: 1897.2 | I18: 949.2 | J18: 2636.3 | K18: 1602 | L18: 743 | M18: 1780.2 | N18: 2485.5 | O18: 4414.8 | P18: 1005.7
B19: 2011 | C19: 2443.9 | D19: 3475.3 | E19: 2089.8 | F19: 1580.7 | G19: 1939.5 | H19: 1693.7 | I19: 873.8 | J19: 2619.1 | K19: 1409.4 | L19: 445.2 | M19: 1829.8 | N19: 1556.2 | O19: 4075.1 | P19: 944.9
B20: 2012 | C20: 2363.6 | D20: 3407.64 | E20: 1887.2 | F20: 1653 | G20: 1658.8 | H20: 1651.1 | I20: 900 | J20: 2952.3 | K20: 1294.3 | L20: 467 | M20: 1753.7 | N20: 856.8 | O20: 4017.9 | P20: 770
B21: 2013 | C21: 2703.9 | D21: 3888.8 | E21: 1793.2 | F21: 1944.2 | G21: 2026.2 | H21: 1664.8 | I21: 962.7 | J21: 3586.5 | K21: 1218.5 | L21: 451.9 | M21: 1356.7 | N21: 607.7 | O21: 4140.7 | P21: 909.8
B22: 2014 | C22: 2920.9 | D22: 4286.5 | E22: 1976.3 | F22: 1835.9 | G22: 2072.3 | H22: 1794.8 | I22: 975.5 | J22: 4052.7 | K22: 1257.6 | L22: 487.2 | M22: 1161.4 | N22: 419.5 | O22: 4677.5 | P22: 1080.6
B23: 2015 | C23: 2906.17 | D23: 4249.67 | E23: 2064.58 | F23: 1695.49 | G23: 2194.43 | H23: 1726.73 | I23: 966.63 | J23: 4012.3 | K23: 1040.51 | L23: 404.04 | M23: 1161.43 | N23: 189.7 | O23: 4803.09 | P23: 1026.97
... B27: 2019 | C27: 2449.96 | D27: 3648.25 | E27: 1997.35 | F27: 1342.8 | G27: 1464.22 | H27: 1293.04 | I27: 912.62 | J27: 2165.39 | K27: 981.06 | L27: 286.32 | M27: 433.21 | N27: 52.33 | O27: 3995.16 | P27: 1116.51
B28: 2020* | C28: 2171.6535 | D28: 3153.6908 | E28: 1988.9734 | F28: 1338.7847 | G28: 1491.3996 | H28: 1148.015 | I28: 787.14807 | J28: 2282.6059 | K28: 812.42332 | L28: 256.5813 | M28: 465.54321 | N28: 50.149751 | O28: 3303.478 | P28: 1035.8546
B29: 2021 | C29: 2604.4637 | D29: 3894.8389 | E29: 1929.0361 | F29: 1363.2141 | G29: 1679.804 | H29: 1327.4205 | I29: 750.50685 | J29: 2549.0987 | K29: 797.21255 | L29: 294.69071 | M29: 603.79094 | N29: 50.149751 | O29: 4199.6043 | P29: 953.532
B30: 2022 | C30: 2692.23 | D30: 4130.91 | E30: 1843.58 | F30: 1179.12 | G30: 1488.11 | H30: 1740.81 | I30: 1124.78 | J30: 2579.88 | K30: 793.96 | L30: 271.93 | M30: 626.22 | N30: 50.15 | O30: 6873.63 | P30: 808.41
B31: 2023 | C31: 2728.97 | D31: 4152.92 | E31: 1820.31 | F31: 1265.23 | G31: 1666.93 | H31: 1644.03 | I31: 1161.14 | J31: 2387.17 | K31: 797.13 | L31: 298.2 | M31: 682.58 | N31: 50.15 | O31: 6226.58 | P31: 757.34
B32: 2024 | C32: 2650.97 | D32: 4033.33 | E32: 1990.1 | F32: 1147.84 | G32: 1608.44 | H32: 1693.32 | I32: 1038.72 | J32: 2407.64 | K32: 718.79 | L32: 259.76 | M32: 755.32 | N32: 50.15 | O32: 6681.77 | P32: 680.15
B33: 2025 | C33: 3775.55 | D33: 5877.2 | E33: 2341.01 | F33: 1186.95 | G33: 2174.11 | H33: 2172.31 | I33: 1069.63 | J33: 2991.15 | K33: 776.76 | L33: 394.31 | M33: 823.58 | N33: 50.15 | O33: 9155.37 | P33: 686.83
B34: 2006
B35: 38899 | C35: 4838.9 | D35: 4442.8 | E35: 4228.9 | F35: 9801.7 | G35: 8126.2 | H35: 1940.5 | I35: 1314.5 | J35: 2568.6 | K35: 2143.1 | L35: 1397.3 | M35: - | N35: 2217.3 | O35: 3145.6 | P35: 1589.4
B36: 38930 | C36: 5135.5 | D36: 4548 | E36: 4122.8 | F36: 11067 | G36: 9595.1 | H36: 1960.2 | I36: 1363.1 | J36: 2420 | K36: 2158.8 | L36: 1420.6 | M36: - | N36: 2347.2 | O36: 3238 | P36: 1739.1
B37: 38961 | C37: 4982 | D37: 4523.6 | E37: 4048.1 | F37: 9840.7 | G37: 9445.5 | H37: 1931.6 | I37: 1372.7 | J37: 2526.4 | K37: 2103.5 | L37: 1414.9 | M37: - | N37: 2262.6 | O37: 3085.7 | P37: 1816.7
B38: 38991 | C38: 5073 | D38: 4575.4 | E38: 4121.5 | F38: 10222.9 | G38: 9627 | H38: 1901.8 | I38: 1373.1 | J38: 2516.8 | K38: 2028.6 | L38: 1259.6 | M38: 1860.8 | N38: 2249.9 | O38: 3083.4 | P38: 1738
B39: 39022 | C39: 4591.5 | D39: 4138 | E39: 3843.8 | F39: 9187.8 | G39: 8716.2 | H39: 1828.7 | I39: 1367.3 | J39: 2627.6 | K39: 1920.5 | L39: 1128.3 | M39: 1725.7 | N39: 2160.8 | O39: 2918.4 | P39: 1695.9
B40: 39052 | C40: 4486.3 | D40: 4237.7 | E40: 3715.5 | F40: 8248.8 | G40: 7798.9 | H40: 1833.1 | I40: 1317.4 | J40: 2611.9 | K40: 1915.8 | L40: 1126.3 | M40: 1738.4 | N40: 2134.5 | O40: 2955.7 | P40: 1721.8
B41: 2007
B42: 39083 | C42: 4846 | D42: 4663.3 | E42: 3877.8 | F42: 8496.5 | G42: 8382.4 | H42: 1987.3 | I42: 1294 | J42: 2754.6 | K42: 2042.2 | L42: 1231.8 | M42: 1940.9 | N42: 2550.4 | O42: 3288 | P42: 1695.5
B43: 39114 | C43: 5036.1 | D43: 4812.3 | E43: 3912.8 | F43: 9085.8 | G43: 8782.2 | H43: 2137.4 | I43: 1522.1 | J43: 3080.6 | K43: 2200.4 | L43: 1326.3 | M43: 2067.5 | N43: 2555.8 | O43: 3491.1 | P43: 1705.5
B44: 39142 | C44: 4819.6 | D44: 4643.6 | E44: 3782.8 | F44: 8541.3 | G44: 8270.2 | H44: 2084.5 | I44: 1433.7 | J44: 2984 | K44: 2159.9 | L44: 1323.4 | M44: 2033.8 | N44: 2660.4 | O44: 3342.8 | P44: 1740
B45: 39173 | C45: 4609.6 | D45: 4510.9 | E45: 3685.2 | F45: 7670 | G45: 7864.4 | H45: 2053.9 | I45: 1230.2 | J45: 3181.4 | K45: 2123.7 | L45: 1228.5 | M45: 1856.5 | N45: 2931.5 | O45: 3317.5 | P45: 1664.8
B46: 39203 | C46: 4578.1 | D46: 4416.8 | E46: 3623.3 | F46: 7698.6 | G46: 8167 | H46: 2057.1 | I46: 1199.8 | J46: 3317.3 | K46: 2125.9 | L46: 1325.1 | M46: 1827 | N46: 2938.1 | O46: 3191.2 | P46: 1804.3
...

Sheet 60b
B2: Financial Sector Statistics | E2: Table (60b) جدول | N2: إحصاءات القطاع المالي
D3: الرقم القياسي لاسعار الاسهم مرجحا بالقيمة السوقية للاسهم الحرة قطاعيا | O3: ( 1999=1000) اغلاق كانون اول
D4: Share Price Index Weighted by Market Capitalization of Free Float Shares by Sectors | O4: Closing December (1000=1999)
C6: قطاع الصناعة
C7: Industrial Sector | O7: الرقم القياسي العام | P7: التغير النسبي %
D8: الادوية والصناعات الطبية | E8: الصناعات الكيماوية | F8: صناعات الورق والكرتون | G8: الطباعة والتغليف | H8: الاغذية والمشروبات | I8: التبغ والسجائر | J8: الصناعات الاستخراجية والتعدينية | K8: الصناعات الهندسية والانشائية | L8: الصناعات الكهربائية | M8: الملابس والجلود والنسيج | N8: الصناعات الزجاجية والخزفية
O9: General Index | P9: Percentage Change %
D10: Pharmace-utical and Medical Industries | E10: Chemical Industries | F10: Paper and Cartoon Industries | G10: Printing and Packaging | H10: Food and Beverages | I10: Tobacco and Cigarettes | J10: Mining and Extraction Industries | K10: Engineering and Construction | L10: Electrical Industries | M10: Textile, Leather and Clothings | N10: Glass and Ceramic Industries
B11: الفترة Period
B12: 2004 | C12: 2344.5 | D12: 3153 | E12: 1667.1 | F12: 1234.5 | G12: 2514.3 | H12: 1660.7 | I12: 3503.3 | J12: 2607.1 | K12: 3009.2 | L12: 4538.6 | M12: 1507.7 | N12: 2887.1 | O12: 2729.1 | P12: 54.9
B13: 2005 | C13: 2815.6 | D13: 3325.4 | E13: 2054.6 | F13: 1442.9 | G13: 2055.3 | H13: 2246.3 | I13: 4140.8 | J13: 2702 | K13: 3365.7 | L13: 9907.7 | M13: 3124.7 | N13: 2300 | O13: 4259.7 | P13: 56.1
B14: 2006 | C14: 2372.3 | D14: 2609.2 | E14: 1727.8 | F14: 1283.6 | G14: 2026 | H14: 2103.5 | I14: 2566 | J14: 2535.7 | K14: 3139.9 | L14: 7794.8 | M14: 2078.1 | N14: 1181.3 | O14: 3013.7 | P14: -29.3
B15: 2007 | C15: 3097.7 | D15: 2374.6 | E15: 1952.8 | F15: 1262.8 | G15: 2487.1 | H15: 2146.8 | I15: 2487.8 | J15: 4311.8 | K15: 3362.1 | L15: 8864.8 | M15: 2554.7 | N15: 1467.4 | O15: 3675 | P15: 21.943126
B16: 2008 | C16: 2736 | D16: 1914.1 | E16: 1464.1 | F16: 803.6 | G16: 1539.6 | H16: 2308.4 | I16: 1608.3 | J16: 4380 | K16: 2915.7 | L16: 5883.8 | M16: 2050.2 | N16: 1050.1 | O16: 2758.4 | P16: -24.9
B17: 2009 | C17: 2738.8 | D17: 1994.6 | E17: 1639.1 | F17: 517.3 | G17: 1459 | H17: 1924.4 | I17: 2065.9 | J17: 4587.1 | K17: 1973.4 | L17: 4909.7 | M17: 1965.9 | N17: 978.9 | O17: 2533.5 | P17: -8.2
B18: 2010 | C18: 2576.6 | D18: 2070.5 | E18: 1530 | F18: 350.5 | G18: 1418.6 | H18: 1509.5 | I18: 2659.1 | J18: 4210.9 | K18: 1915.2 | L18: 3717.4 | M18: 1928.6 | N18: 735.2 | O18: 2373.6 | P18: -6.3
B19: 2011 | C19: 2149.9 | D19: 1656.6 | E19: 1338.7 | F19: 223.6 | G19: 1431.3 | H19: 1315.2 | I19: 3176.2 | J19: 3397 | K19: 1819.6 | L19: 1909.3 | M19: 1982.4 | N19: 660.5 | O19: 1995.1 | P19: -15.9
B20: 2012 | C20: 2176.6 | D20: 1100.6 | E20: 1455.5 | F20: 227.4 | G20: 1918 | H20: 1120.9 | I20: 5220.7 | J20: 3391.5 | K20: 2004.2 | L20: 1344.6 | M20: 1921.6 | N20: 870.4 | O20: 1957.6 | P20: -1.9
B21: 2013 | C21: 1964.9 | D21: 1341.3 | E21: 1786.4 | F21: 122.8 | G21: 2118.4 | H21: 1161.5 | I21: 9363.9 | J21: 2247.2 | K21: 2233.6 | L21: 1921.2 | M21: 1953.4 | N21: 993.7 | O21: 2065.8 | P21: 5.5
B22: 2014 | C22: 1852 | D22: 2236.8 | E22: 2065.5 | F22: 94.7 | G22: 3062.3 | H22: 1349.9 | I22: 7732 | J22: 1960.1 | K22: 2044.1 | L22: 1847.7 | M22: 1828.9 | N22: 1096.8 | O22: 2165.5 | P22: 4.8
B23: 2015 | C23: 1848.84 | D23: 1731.42 | E23: 1646.77 | F23: 73.21 | G23: 3251.02 | H23: 1605.07 | I23: 10935.42 | J23: 1782.45 | K23: 1538.3 | L23: 1348.64 | M23: 1927.9 | N23: 1162.4 | O23: 2136.32 | P23: -1.3
... B27: 2019 | C27: 1856.97 | D27: 853.56 | E27: 1199.4 | F27: 57.3 | G27: 5540.81 | H27: 1589.93 | I27: 18118.21 | J27: 1446.62 | K27: 455.47 | L27: 952.58 | M27: 1497.7 | N27: 1162.4169 | O27: 1815.2 | P27: -4.9041026
B28: 2020* | C28: 2119.7159 | D28: 960.11579 | E28: 1516.2704 | F28: 57.318788 | G28: 5540.808 | H28: 1746.7111 | I28: 25391.573 | J28: 1585.3501 | K28: 463.28746 | L28: 1069.3327 | M28: 1330.9254 | N28: 1162.4169 | O28: 1657.2223 | P28: -8.7030467
B29: 2021 | C29: 3665.8923 | D29: 1069.5628 | E29: 1794.767 | F29: 57.318788 | G29: 5540.808 | H29: 1896.5374 | I29: 14003.837 | J29: 3588.9432 | K29: 666.77053 | L29: 1145.1112 | M29: 1289.6404 | N29: 1162.4169 | O29: 2118.6494 | P29: 27.843404
B30: 2022 | C30: 5292.28 | D30: 945.46 | E30: 1599.48 | F30: 57.32 | G30: 5540.81 | H30: 1512.71 | I30: 7424.11 | J30: 6068.27 | K30: 564.25 | L30: 885.83 | M30: 1260.2 | N30: 1162.42 | O30: 2501.6 | P30: 18.075223
B31: 2023 | C31: 4718.69 | D31: 1037.6 | E31: 1409.08 | F31: 57.32 | G31: 5540.81 | H31: 1464.35 | I31: 8136.01 | J31: 5154.02 | K31: 658.18 | L31: 984.77 | M31: 1271.97 | N31: 1162.42 | O31: 2431.21 | P31: -2.8137992
B32: 2024 | C32: 5531.31 | D32: 1011.21 | E32: 1589.68 | F32: 57.32 | G32: 5540.81 | H32: 1408.69 | I32: 1423.8 | J32: 6280.7 | K32: 896.98 | L32: 1422.71 | M32: 1189.53 | N32: 1162.42 | O32: 2488.76 | P32: 2.3671341
B33: 2025 | C33: 8872.85 | D33: 1060.7 | E33: 1831.72 | F33: 57.32 | G33: 5540.81 | H33: 1385.65 | I33: 854.28 | J33: 11134.79 | K33: 927.6 | L33: 3115.24 | M33: 1690.08 | N33: 1162.42 | O33: 3611.62 | P33: 45.117247
B34: 2006
B35: 38899 | C35: 2388 | D35: 2772.5 | E35: 1780.3 | F35: 1497.7 | G35: 1751.5 | H35: 2103.7 | I35: 2729.6 | J35: 2485.2 | K35: 2918.2 | L35: 7536 | M35: 2299 | N35: 1439.4 | O35: 3218.5 | P35: 6.8
B36: 38930 | C36: 2468 | D36: 2753.9 | E36: 1899 | F36: 1415.4 | G36: 1792.9 | H36: 2110 | I36: 2774.8 | J36: 2624.9 | K36: 2902.8 | L36: 8095 | M36: 2322.8 | N36: 1567.3 | O36: 3369.4 | P36: 4.7
B37: 38961 | C37: 2471.5 | D37: 2642.1 | E37: 1921.3 | F37: 1372.1 | G37: 2113.8 | H37: 2136.3 | I37: 2967.9 | J37: 2640.7 | K37: 3175.1 | L37: 7815.1 | M37: 2200.2 | N37: 1625.4 | O37: 3279.4 | P37: -2.7
B38: 38991 | C38: 2423.3 | D38: 2618.9 | E38: 2007.9 | F38: 1330.4 | G38: 2232.9 | H38: 2102.5 | I38: 2768.7 | J38: 2583.5 | K38: 2999.3 | L38: 7742.6 | M38: 2211.2 | N38: 1411.2 | O38: 3305.6 | P38: 0.8
B39: 39022 | C39: 2338.5 | D39: 2513.5 | E39: 1820.2 | F39: 1292.2 | G39: 2069.2 | H39: 2135.9 | I39: 2560.8 | J39: 2512.8 | K39: 2881.3 | L39: 7841.1 | M39: 1968.4 | N39: 1337.4 | O39: 3044.4 | P39: -7.9
B40: 39052 | C40: 2372.3 | D40: 2609.2 | E40: 1727.8 | F40: 1283.6 | G40: 2026 | H40: 2103.5 | I40: 2566 | J40: 2535.7 | K40: 3139.9 | L40: 7794.8 | M40: 2078.1 | N40: 1181.3 | O40: 3013.7 | P40: -1
B41: 2007
B42: 39083 | C42: 2510.3 | D42: 2718.5 | E42: 1948.8 | F42: 1254.4 | G42: 2358.2 | H42: 2230.5 | I42: 2526 | J42: 2704.5 | K42: 3181.2 | L42: 8544.2 | M42: 2190.8 | N42: 1270.8 | O42: 3256.2 | P42: =O42/O40*100-100 -> 8.0465873
B43: 39114 | C43: 2620.5 | D43: 2872.2 | E43: 1851.3 | F43: 1290.7 | G43: 2283.8 | H43: 2212.8 | I43: 2733 | J43: 2879.3 | K43: 3314.8 | L43: 8536.4 | M43: 2308.6 | N43: 1201.4 | O43: 3408.5 | P43: =O43/O42*100-100 -> 4.6772311
B44: 39142 | C44: 2557 | D44: 2686.2 | E44: 1871.7 | F44: 1321.6 | G44: 2203.9 | H44: 2105.9 | I44: 2733 | J44: 2830 | K44: 2830 | L44: 8545.2 | M44: 2225 | N44: 1168.3 | O44: 3247 | P44: =O44/O43*100-100 -> -4.7381546
B45: 39173 | C45: 2511.4 | D45: 2594.9 | E45: 1840.1 | F45: 1232.2 | G45: 2218.4 | H45: 2035.6 | I45: 2583.4 | J45: 2796.1 | K45: 3099.4 | L45: 8642.2 | M45: 2215.7 | N45: 1135.2 | O45: 3155.8 | P45: =O45/O44*100-100 -> -2.8087465
...

Sheet 61
B3: Financial Sector Statistics | D3: Table (61) جدول | K3: إحصاءات القطاع المالي
D4: الرقم القياسي لاسعار الاسهم مرجحا بالقيمة السوقية لرأس المال | K4: ( 1999=1000) اغلاق كانون اول
D5: Share Price Index Weighted By Market Value of Capital | K5: Closing December (1000=1999)
C7: البنوك والشركات المالية | E7: شركات التأمين | G7: شركات الخدمات | I7: شركات الصناعة والتعدين | K7: الرقم القياسي العام
C8: Banks and Financial Institutions | E8: Insurance Companies | G8: Services Companies | I8: Manufacturing and Mining Companies | K8: General Index
C9: الرقم القياسي | D9: التغير النسبي | E9: الرقم القياسي | F9: التغير النسبي | G9: الرقم القياسي | H9: التغير النسبي | I9: الرقم القياسي | J9: التغير النسبي | K9: الرقم القياسي | L9: التغير النسبي
C10: Index Number | D10: Percentage Change | E10: Index Number | F10: Percentage Change | G10: Index Number | H10: Percentage Change | I10: Index Number | J10: Percentage Change | K10: Index Number | L10: Percentage Change
B11: الفترة Period
B12: 2000 | C12: 1987.3 | D12: -21.119492 | E12: 1197.4 | F12: -3.2336297 | G12: 998.1 | H12: -9.7649186 | I12: 751.5 | J12: -21.829522 | K12: 1330.5 | L12: -20.489845
B13: 2001 | C13: 2752 | D13: 38.500252 | E13: 1332 | F13: 11.278195 | G13: 1093.9 | H13: 9.6192385 | I13: 917.2 | J13: 21.941489 | K13: 1727.2 | L13: 29.752066
B14: 2002 | C14: 2556.6 | D14: -7.0857558 | E14: 1499.3 | F14: 12.537538 | G14: 1060.2 | H14: -3.1078611 | I14: 1016.1 | J14: 10.796074 | K14: 1700.2 | L14: -1.5634047
B15: 2003 | C15: 4433.6 | D15: 73.4 | E15: 2287.6 | F15: 52.6 | G15: 1266.7 | H15: 19.5 | I15: 1481.6 | J15: 45.9 | K15: 2614.5 | L15: 53.8
B16: 2004 | C16: 7230.9 | D16: 63.078484 | E16: 3726.9 | F16: 62.888986 | G16: 1874.4 | H16: 47.940016 | I16: 2526.9 | J16: 70.512821 | K16: 4245.6 | L16: 62.355641
B17: 2005 | C17: 16892 | D17: 133.60854 | E17: 7382.4 | F17: 98.084199 | G17: 3332.5 | H17: 77.790226 | I17: 2903.4 | J17: 14.899679 | K17: 8191.5 | L17: 92.940927
B18: 2006 | C18: 10704.7 | D18: -36.628582 | E18: 4156.3 | F18: -43.699881 | G18: 2286.6 | H18: -31.384846 | I18: 2507.6 | J18: -13.632293 | K18: 5518.1 | L18: -32.636269
B19: 2007 | C19: 13886.7 | D19: 29.725261 | E19: 4900.4 | F19: 17.902943 | G19: 2740.3 | H19: 19.841686 | I19: 4565.5 | J19: 82.066518 | K19: 7519.3 | L19: 36.266106
B20: 2008 | C20: 11380.1 | D20: -18.050365 | E20: 3821.3 | F20: -22.020651 | G20: 1865.6 | H20: -31.919863 | I20: 4560.1 | J20: -0.11827839 | K20: 6243.1 | L20: -16.972325
B21: 2009 | C21: 9368 | D21: -17.7 | E21: 3943.6 | F21: 3.2 | G21: 1700.6 | H21: -8.8 | I21: 4563.2 | J21: 0.1 | K21: 5520.1 | L21: -11.580785
B22: 2010 | C22: 8848.3 | D22: -5.5476089 | E22: 2103.5 | F22: -46.660412 | G22: 1506.4 | H22: -11.419499 | I22: 4841.7 | J22: 6.1031732 | K22: 5318 | L22: -3.6611656
B23: 2011 | C23: 7542.3 | D23: -14.759897 | E23: 1703.7 | F23: -19.006418 | G23: 1302.1 | H23: -13.562135 | I23: 4427.4 | J23: -8.5569118 | K23: 4648.4 | L23: -12.5912
... B31: 2019 | C31: 7095.6459 | D31: -13.950194 | E31: 1282.5083 | F31: -6.8288589 | G31: 735.73319 | H31: -7.6662201 | I31: 2613.1627 | J31: 13.056949 | K31: 3513.7611 | L31: -7.4617203
B32: 2020* | C32: 5410.6412 | D32: -23.747023 | E32: 1309.1805 | F32: 2.0796942 | G32: 704.24352 | H32: -4.2800402 | I32: 2818.025 | J32: 7.8396321 | K32: 3049.5746 | L32: -13.210531
B33: 2021 | C33: 6566.3726 | D33: 21.36034 | E33: 1328.3496 | F33: 1.4642048 | G33: 782.37514 | H33: 11.094404 | I33: 4700.4878 | J33: 66.800785 | K33: 4005.2714 | L33: 31.338694
B34: 2022 | C34: 6753.66 | D34: 2.8522206 | E34: 1331.66 | F34: 0.24921053 | G34: 852.07 | H34: 8.9081134 | I34: 6882.07 | J34: 46.411825 | K34: 4730.37 | L34: 18.103607
B35: 2023 | C35: 6735.62 | D35: -0.26711442 | E35: 1284.93 | F35: -3.509154 | G35: 878.63 | H35: 3.1171148 | I35: 5706.68 | J35: -17.079018 | K35: 4416.32 | L35: -6.6390156
B36: 2024 | C36: 6553.27 | D36: =C36/C35*100-100 -> -2.7072489 | E36: 1376.04 | F36: =E36/E35*100-100 -> 7.0906586 | G36: 863.65 | H36: =G36/G35*100-100 -> -1.704927 | I36: 6739.07 | J36: =I36/I35*100-100 -> 18.090904 | K36: 4633.56 | L36: =K36/K35*100-100 -> 4.9190276
B37: 2025 | C37: 9443.64 | D37: =C37/C36*100-100 -> 44.105767 | E37: 1783.24 | F37: =E37/E36*100-100 -> 29.592163 | G37: 1087.75 | H37: =G37/G36*100-100 -> 25.948011 | I37: 11403.03 | J37: =I37/I36*100-100 -> 69.207769 | K37: 7056.03 | L37: =K37/K36*100-100 -> 52.280968
B38: 2000
B39: 36526 | C39: 244.3 | D39: -3 | E39: 122.9 | F39: - | G39: 112.3 | H39: 1.5 | I39: 93 | J39: -3.3 | K39: 162.6 | L39: -2.9
B40: 36557 | C40: 239.7 | D40: -1.9 | E40: 124.4 | F40: 1.2205045 | G40: 111.1 | H40: -1.1 | I40: 90.4 | J40: -2.8 | K40: 159.3 | L40: -2
B41: 36586 | C41: 230.1 | D41: -5.8125256 | E41: 122.4 | F41: -1.607717 | G41: 106.1 | H41: -5.5209261 | I41: 87.9 | J41: -5.483871 | K41: 153.6 | L41: -5.5350554
B42: 36617 | C42: 218.6 | D42: -5 | E42: 120.2 | F42: -1.7973856 | G42: 103.4 | H42: -2.5 | I42: 84.4 | J42: -4 | K42: 146.5 | L42: -4.6
B43: 36647 | C43: 224.8 | D43: 2.8 | E43: 114.8 | F43: -4.4925125 | G43: 102.5 | H43: -0.9 | I43: 82 | J43: -2.8 | K43: 147.7 | L43: 0.8
B44: 36678 | C44: 212.2 | D44: -5.6049822 | E44: 114.8 | F44: 0 | G44: 108.8 | H44: 6.1463415 | I44: 82.5 | J44: 0.6097561 | K44: 143.2 | L44: -3.0467163
B45: 36708 | C45: 211.4 | D45: -0.37700283 | E45: 117.8 | F45: 2.6132404 | G45: 101.9 | H45: -6.3419118 | I45: 76.1 | J45: -7.7575758 | K45: 139 | L45: -2.9329609
B46: 36739 | C46: 202.5 | D46: -4.2100284 | E46: 117.4 | F46: -0.33955857 | G46: 98.4 | H46: -3.4347399 | I46: 75.2 | J46: -1.1826544 | K46: 134.5 | L46: -3.2374101
B47: 36770 | C47: 197.5 | D47: -2.4691358 | E47: 120 | F47: 2.2146508 | G47: 99 | H47: 0.6097561 | I47: 75.5 | J47: 0.39893617 | K47: 132.7 | L47: -1.33829
B48: 36800 | C48: 205.1 | D48: 3.8481013 | E48: 121.4 | F48: 1.1666667 | G48: 99.8 | H48: 0.80808081 | I48: 75.7 | J48: 0.26490066 | K48: 136 | L48: 2.4868124
B49: 36831 | C49: 201.1 | D49: -1.9502682 | E49: 122.7 | F49: 1.0708402 | G49: 99.9 | H49: 0.1002004 | I49: 75.3 | J49: -0.52840159 | K49: 134.2 | L49: -1.3235294
B50: 36861 | C50: 198.7 | D50: -1.1934361 | E50: 119.7 | F50: -2.4449878 | G50: 99.8 | H50: -0.1001001 | I50: 75.2 | J50: -0.13280212 | K50: 133.1 | L50: -0.81967213
...

Sheet 62a
B2: Financial Sector Statistics | E2: Table (62a) جدول | O2: إحصاءات القطاع المالي
C3: اربحية الشركات المساهمة العامة الاردنية وفقاً للقطاعات الاقتصادية * | P3: نسب مئوية
C4: Profitability of Jordanian public shareholding companies according to economic sectors * | P4: Percentages
C6: القطاع المالي Finacial Sector | H6: قطاع الخدمات Services Sector
D7: البنوك | E7: التأمين | F7: خدمات مالية متنوعة | G7: العقارات | I7: الخدمات الصحية | J7: التعليم | K7: الفنادق والسياحة | L7: النقل | M7: التكنولوجيا والاتصالات | N7: الاعلام | O7: الطاقة والمنافع | P7: الخدمات التجارية
D9: Banks | E9: Insurance | F9: Diversified Financial Services | G9: Real Estate | I9: Health Sector | J9: Educational Sector | K9: Hotel and Tourism | L9: Transportation | M9: Technology and Commun-ication | N9: Media | O9: Utilities and Energy | P9: Commercial Sector
B10: الفترة Period
B11: 2008 | C11: 7.9268792 | D11: 10.890968 | E11: 2.2 | F11: -3.4672311 | G11: 1.727141 | H11: 8.6221152 | I11: -0.91396497 | J11: 10.488282 | K11: 5.9023171 | L11: -5.4844865 | M11: 22.394979 | N11: 20.749538 | O11: 6.9221508 | P11: 5.2488643
B12: 2009 | C12: 3.1827037 | D12: 7.4665151 | E12: -0.6 | F12: -13.25436 | G12: -9.9866793 | H12: 8.8030372 | I12: -3.2746596 | J12: 11.913773 | K12: 3.8202875 | L12: 13.440598 | M12: 19.282038 | N12: 10.70155 | O12: 9.2058888 | P12: 0.22338776
B13: 2010 | C13: 3.5 | D13: 6.6308091 | E13: 2.7 | F13: -16.3 | G13: -2.9 | H13: 8.6 | I13: 2.6762463 | J13: 17.103778 | K13: 2.7759417 | L13: 5.0084709 | M13: 21.994006 | N13: 10.597037 | O13: 9.6 | P13: 0.5
B14: 2011 | C14: 4.3 | D14: 8.0047939 | E14: -1.9 | F14: -4.9 | G14: -17.9 | H14: 5.7 | I14: 1.8 | J14: 17.256039 | K14: 0.33089978 | L14: -32.6 | M14: 21.1 | N14: -2.7933175 | O14: 16.8 | P14: 4.6
B15: 2012 | C15: 6.5 | D15: 8.3161304 | E15: 1.8 | F15: -1.8 | G15: -2.4 | H15: 9.6 | I15: 8.5 | J15: 18.1 | K15: -0.1 | L15: 3.7 | M15: 20.3 | N15: -13 | O15: 16.8 | P15: 6.1
B16: 2013 | C16: 8.1 | D16: 9.6 | E16: 4.4 | F16: -1.2 | G16: 0.9 | H16: 5.3 | I16: 4.1 | J16: 17.6 | K16: 0 | L16: -24.3 | M16: 13.5 | N16: -12.9 | O16: 8.7 | P16: 8.7
B17: 2014 | C17: 7.5 | D17: 9 | E17: 8.8 | F17: -0.4 | G17: -4.2 | H17: 7.1 | I17: 4.1 | J17: 16.1 | K17: 2.3 | L17: -33.2 | M17: 11.1 | N17: -4.1 | O17: 15.2 | P17: 12.2
B18: 2015 | C18: 6.4 | D18: 7.5 | E18: 5.9 | F18: -0.1 | G18: -0.4 | H18: 8.7 | I18: 4.12 | J18: 13.8 | K18: 2.2 | L18: 11.9 | M18: 4.4 | N18: -4.06 | O18: 18.3 | P18: 12.17
B19: 2016 | C19: 7 | D19: 7.9 | E19: 7.4 | F19: -1.1 | G19: 2.7 | H19: 7 | I19: -2.6 | J19: 13.4 | K19: 2.5 | L19: 11.9 | M19: 6.6 | N19: -16.7 | O19: 15 | P19: 13.8
B20: 2017 | C20: 6.3 | D20: 7.4 | E20: -0.5 | F20: -0.5 | G20: 0.8 | H20: 7.3 | I20: -14 | J20: 11.4 | K20: 0.7 | L20: -8.1 | M20: 8 | N20: -17.6 | O20: 12.9 | P20: 15.8
B21: 2018 | C21: 8.8 | D21: 10.2 | E21: 4 | F21: -1.6 | G21: 0.79 | H21: 7 | I21: 1.87 | J21: 10.37 | K21: 0.63 | L21: -0.4 | M21: 7.48 | N21: -28.12 | O21: 14.29 | P21: 12.68
B22: 2019 | C22: 8.1 | D22: 9.4 | E22: 6.4 | F22: -1.2 | G22: -2.3 | H22: 7.9 | I22: 3.3 | J22: 9.5 | K22: 1.9 | L22: 6.4 | M22: 6.7 | N22: -61.9 | O22: 13.4 | P22: 12.5
B23: 2020 | C23: 2.5 | D23: 2.9 | E23: 7.6 | F23: -3.5 | G23: -2.4 | H23: -1 | I23: 1.4 | J23: 6.8 | K23: -10.3 | L23: -6.1 | M23: 6.2 | N23: N.A | O23: -0.9 | P23: 3.8
B24: 2021 | C24: 5.9 | D24: 6.6 | E24: 4.3 | F24: -0.8 | G24: 0.7 | H24: 7.8 | I24: 3 | J24: 6.7 | K24: -3.3 | L24: 1 | M24: 9.1 | N24: N.A | O24: 16.5 | P24: 5.9
B25: 2022(1) | C25: 7.8816427 | D25: 8.9 | E25: 4.4 | F25: 1.0460667 | G25: -0.86689457 | H25: 11.728633 | I25: -4.481129 | J25: 5.5386511 | K25: 1.134077 | L25: -105.9737 | M25: 14.189673 | N25: N.A | O25: 26.423399 | P25: 10.736276
B26: 2023(1) | C26: 8.7370509 | D26: 9.2062013 | E26: 8.8290264 | F26: -0.049490196 | G26: -2.4068192 | H26: 10.891764 | I26: -4.6360572 | J26: 6.3436496 | K26: 2.4199569 | L26: -0.16962767 | M26: 14.326328 | N26: N.A | O26: 19.064738 | P26: 7.3338965
B27: 2024(1) | C27: 9.917403 | D27: 10.952406 | E27: 5.5705992 | F27: 0.37930661 | G27: -0.61430921 | H27: 9.3922737 | I27: 3.8558131 | J27: 9.5632795 | K27: -0.6974609 | L27: -0.54144392 | M27: 13.124326 | N27: N.A | O27: 12.605518 | P27: 12.952331
B28: 2025(1) | C28: 10.184764 | D28: 10.820402 | E28: 9.3384708 | F28: 3.9185671 | G28: 0.3397657 | H28: 10.625167 | I28: 5.7070968 | J28: 12.98457 | K28: 0.44111878 | L28: 11.015982 | M28: 13.136263 | N28: N.A | O28: 13.001937 | P28: 11.264458
B30: المصدر : بورصة عمان. | O30: Source : Amman Stock Exchange.
B31: ملاحظة : ابتداءً من عام 2023، تم احتساب النسب من قبل البنك المركزي استناداً إلى بيانات دليل الشركات المنشورة على الموقع الالكتروني لبورصة عمان. | P31: Note : Since 2023,the percentages were calculated by the Central Bank based on the Companies'Guide data published on the Amman Stock Exchange website.
B32: (1) : أوليـــــة. | O32: (1) : Preliminary.
B33: * : تمثل اربحية الشركات العائد على حقوق المساهمين ( صافي الربح بعد الضرائب / حقوق المساهمين) . | P33: * : Profitability of Companies Represents Return on Equity (Net Income After Taxes/Total Shareholders Equity).

Sheet 62b
B2: Financial Sector Statistics | E2: Table (62b) جدول | N2: إحصاءات القطاع المالي
C3: اربحية الشركات المساهمة العامة الاردنية وفقاً للقطاعات الاقتصادية * | O3: نسب مئوية
C4: Profitability of Jordanian Public Shareholding Companies according to economic sectors * | O4: Percentages
D6: قطاع الصناعة Industrial Sector | O6: جميع القطاعات
D7: الادوية والصناعات الطبية | E7: الصناعات الكيماوية | F7: صناعات الورق والكرتون | G7: الطباعة والتغليف | H7: الاغذية والمشروبات | I7: التبغ والسجائر | J7: الصناعات الاستخراجية والتعدينية | K7: الصناعات الهندسية والانشائية | L7: الصناعات الكهربائية | M7: الملابس والجلود والنسيج | N7: الصناعات الزجاجية والخزفية
D9: Pharmaceutical and Medical Industries | E9: Chemical Industries | F9: Paper and Cartoon Industries | G9: Printing and Packaging | H9: Food and Beverages | I9: Tobacco and Cigarettes | J9: Mining and Extraction Industries | K9: Engineering and Construction | L9: Electrical Industries | M9: Textile, Leather and Clothings | N9: Glass and Ceramic Industries | O9: All Sectors
B10: الفترة Period
B11: 2008 | C11: 24.735158 | D11: 2.2262675 | E11: -8.7035696 | F11: 3.8 | G11: 10.245408 | H11: 1.4610374 | I11: 16.2 | J11: 42.767846 | K11: 1.1863084 | L11: -2.544854 | M11: -1.6838968 | N11: -3.5728946 | O11: 11.045383
B12: 2009 | C12: 10.690392 | D12: 6.3891955 | E12: 2.2743845 | F12: -12.3 | G12: 5.169935 | H12: 2.7809108 | I12: 14.4 | J12: 17.922964 | K12: -3.7161611 | L12: -8.7883421 | M12: 0.43787586 | N12: -12.234215 | O12: 5.4323146
B13: 2010 | C13: 9.5 | D13: 8.9629013 | E13: 2.7070375 | F13: -32.4 | G13: 6.8 | H13: 3.1066474 | I13: 22.6 | J13: 14.966502 | K13: -4.4401629 | L13: -19.2 | M13: 3.7956913 | N13: -15.97779 | O13: 5.4
B14: 2011 | C14: 20.1 | D14: -6.9 | E14: 3.9 | F14: -2.2 | G14: 4.3 | H14: -4.6 | I14: 23 | J14: 27.9 | K14: -1.4 | L14: -16.5 | M14: 5.5 | N14: -30.19321 | O14: 7.7
B15: 2012 | C15: 12.2 | D15: -5.2 | E15: 4.6 | F15: -11.2 | G15: 4.8 | H15: 2 | I15: 25.5 | J15: 15.6 | K15: -0.4 | L15: -11.9 | M15: 5.9 | N15: -30.5 | O15: 8.1
B16: 2013 | C16: 5.8 | D16: 4 | E16: 5.4 | F16: -19.2 | G16: 5.2 | H16: 5.8 | I16: 28.7 | J16: 5.9 | K16: 2.7 | L16: -8 | M16: 4.2 | N16: -178 | O16: 7.3
B17: 2014 | C17: 6.8 | D17: 0.9 | E17: 3 | F17: -1.8 | G17: 5.6 | H17: 9.6 | I17: 26 | J17: 6.9 | K17: 3.4 | L17: -8.3 | M17: 3.5 | N17: -48.6 | O17: 7.3
B18: 2015 | C18: 7.7 | D18: -6.3 | E18: -0.6 | F18: -27.4 | G18: 6.9 | H18: 8 | I18: 29.5 | J18: 9.3 | K18: -0.8 | L18: -36 | M18: 2.1 | N18: N.A | O18: 7
B19: 2016 | C19: 1.1 | D19: -2.5 | E19: 4.2 | F19: -2.6 | G19: 11.9 | H19: -0.4 | I19: 32 | J19: -0.7 | K19: 5.6 | L19: -3.7 | M19: 2.6 | N19: N.A | O19: 5.9
B20: 2017 | C20: 2.4 | D20: -6.1 | E20: 0.1 | F20: N.A | G20: 12.2 | H20: 4.9 | I20: 36.3 | J20: 0.5 | K20: 1.1 | L20: -1.8 | M20: 0.3 | N20: N.A | O20: 5.8
B21: 2018 | C21: 6.9 | D21: -8.2 | E21: -0.9 | F21: 28.3 | G21: 1.14 | H21: 1.4 | I21: 28.68 | J21: 7.68 | K21: -4.28 | L21: -6.8 | M21: 0.42 | N21: N.A | O21: 8.2
B22: 2019 | C22: 5.5 | D22: -14.2 | E22: 4.3 | F22: N.A | G22: N.A | H22: 3.6 | I22: 19.9 | J22: 6.5 | K22: -13.5 | L22: -6 | M22: 5.5 | N22: N.A | O22: 7.6
B23: 2020 | C23: 5.9 | D23: 17.9 | E23: -3.4 | F23: N.A | G23: N.A | H23: 0.7 | I23: -96 | J23: 9.5 | K23: -28.8 | L23: -3.9 | M23: 2.7 | N23: N.A | O23: 2.6
B24: 2021 | C24: 21.7 | D24: 6.2 | E24: 7.1 | F24: N.A | G24: N.A | H24: 9 | I24: -5034.1 | J24: 26.4 | K24: -8 | L24: -2.6 | M24: 2.7 | N24: N.A | O24: 9
B25: 2022(1) | C25: 36.496475 | D25: 6.1948769 | E25: 6.1213201 | F25: N.A | G25: N.A | H25: 7.171695 | I25: 96.157489 | J25: 41.377041 | K25: -4.2225308 | L25: -2.2810841 | M25: 3.6716549 | N25: N.A | O25: 14.613131
B26: 2023(1) | C26: 18.905754 | D26: 1.4366116 | E26: 0.81022004 | F26: N.A | G26: N.A | H26: 8.1649613 | I26: -34.2446 | J26: 21.402913 | K26: 3.1743209 | L26: -0.83722739 | M26: 3.3248074 | N26: N.A | O26: 11.298995
B27: 2024(1) | C27: 16.44473 | D27: 7.4124686 | E27: 8.7627751 | F27: N.A | G27: N.A | H27: 4.6797714 | I27: N.A | J27: 18.217093 | K27: 2.8176593 | L27: -0.93498888 | M27: 3.8770728 | N27: N.A | O27: 11.282313
B28: 2025(1) | C28: 17.303725 | D28: 9.1373006 | E28: 9.335082 | F28: N.A | G28: N.A | H28: 0.35662347 | I28: N.A | J28: 19.266626 | K28: 3.204015 | L28: 1.2724886 | M28: 4.4559551 | N28: N.A | O28: 11.818301
B30: المصدر : بورصة عمان. | O30: Source : Amman Stock Exchange.
B31: ملاحظة : ابتداءً من عام 2023، تم احتساب النسب من قبل البنك المركزي استناداً إلى بيانات دليل الشركات المنشورة على الموقع الالكتروني لبورصة عمان. | O31: Note : Since 2023,the percentages were calculated by the Central Bank based on the Companies'Guide data published on the Amman Stock Exchange website.
B32: (1) : أوليـــــة. | O32: (1) : Preliminary.
B33: * : تمثل اربحية الشركات العائد على حقوق المساهمين ( صافي الربح بعد الضرائب / حقوق المساهمين) . | O33: * : Profitability of Companies Represents Return on Equity (Net Income After Taxes/Total Shareholders Equity).
